Workbook

Sheet Export Summary
B3: This document was exported from Numbers. Each table was converted to an Excel worksheet. All other objects on each Numbers sheet were placed on separate worksheets. Please be aware that formula calculations may differ in Excel.
B7: Numbers Sheet Name | C7: Numbers Table Name | D7: Excel Worksheet Name
B9: 1. Introduction
C10: Table 1 | D10: 1. Introduction
B11: 2. Site Details
C12: Table 1 | D12: 2. Site Details
B13: 3. Desktop Assessment
C14: Table 1 | D14: 3. Desktop Assessment
B15: 4. Supporting Information
C16: Table 1 | D16: 4. Supporting Information
B17: 5. Area Habitats
C18: Table 1 | D18: 5. Area Habitats
B19: 6. Hedges & Lines of Trees
C20: Table 1 | D20: 6. Hedges & Lines of Trees
B21: 7. Watercourses
C22: Table 1 | D22: 7. Watercourses
B23: 8. Headline Results
C24: Table 1 | D24: 8. Headline Results
B25: 9. All Habitats + Multipliers
C26: Table 1 | D26: 9. All Habitats + Multipliers
B27: 10. Condition and Temporal
C28: Table 1 | D28: 10. Condition and Temporal
B29: 11. Lists
C30: Table 1 | D30: 11. Lists
B31: 12. Version history
C32: Table 1 | D32: 12. Version history
B33: 13. Habitats Translation
C34: Table 1 | D34: 13. Habitats Translation

Sheet Sheet1

Sheet Sheet2

Sheet Sheet3

Sheet Sheet4

Sheet Sheet5

Sheet Sheet6

Sheet Sheet7

Sheet Sheet8

Sheet 1. Introduction
A6: created by Sam Arthur @ FPCR | B6: Small Sites Metric (The Statutory Biodiversity Metric)
B11: Version 1.2.3 Release Date: | F11: 3rd July 2025
B17: Cell style conventions
D19: Enter data
D21: Automated equation
D23: Result
D25: Title cell
D26: Title cell alt colour
B27: ▲ | D27: Error
B28: ⚠ | D28: Attention required | J28: Technical Requirements - Excel Versions: 2010, 2013, 2016, 2019, Office 365, Excel for Android
D29: Use of this cell is not required

Sheet 2. Site Details
B2: Sheet Name | D2: Site Details
B3: 1. Planning authority: | D3: High Peak Borough Council
B4: 2. Site name: | D4: Hull End Farm
B5: 3. Applicant: | D5: Dr Kyle Gilmour
B6: 4. Planning application type: | D6: Full planning consent
B7: 5. Planning application reference: | D7: HPK/2025/0440
B8: 6. Metric completed by (name & job title): | D8: Thomas Gilmour MSc
B9: 7. Date of metric completion: | D9: 45999
B10: 8. Revision number:
B11: 9. Masterplan document title / drawing number:
B12: Net Gain Targets
B13: 10. Targeted % increase in Units | C13: 10a. Area habitats | D13: 10 | E13: {=IF(D13<10,"Caution - % target reduced below default ▲",IF(D13>10,"Caution -Target increased above default ⚠",""))}
C14: 10b. Hedgerows | D14: 10 | E14: {=IF(D14<10,"Caution - % target reduced below default ▲",IF(D14>10,"Caution -Target increased above default ⚠",""))}
C15: 10c. Watercourses | D15: 10 | E15: {=IF(D15<10,"Caution - % target reduced below default ▲",IF(D15>10,"Caution -Target increased above default ⚠",""))}
B17: 11. Optional target increase in units if baseline value is zero | C17: 11a. Area habitat units | D17: 0 | E17: {=IF(D17=0,"","Unit increase Targets must be agreed with LPA ⚠")}
C18: 11b. Hedgerow units | D18: 0 | E18: {=IF(D18=0,"","Unit increase Targets must be agreed with LPA ⚠")}
C19: 11c. Watercourse units | D19: 0 | E19: {=IF(D19=0,"","Unit increase Targets must be agreed with LPA ⚠")}
B21: For planning authority use only
B22: 12. Planning authority reviewer:
B23: 13. Date of planning authority review:

Sheet 3. Desktop Assessment
B2: Site Name: | C2: {=IF('2. Site Details'!D4="","Enter site name on 2. Site Details",'2. Site Details'!D4)} -> Hull End Farm
B3: Sheet Name | C3: Desktop Assessment
B5: Development
B6: 14. Select the type of proposed development. If Other provide details at Q.25 below | C6: Residential | D6: {=IF(AND(C6="Residential",C9="Unknown number"),"Site area must be less than 5,000 m2",IF(C6="","","Site area must be less than 10,000 m2"))} -> Site area must be less than 10,000 m2 | E6: {=IF(AND(C9="Unknown number",C6="Residential"),"Site area limited by unknown number of dwellings ⚠","")}
B7: 15. Site area (m2) | C7: 899 | D7: {=IF(AND(D6="Site area must be less than 10,000 m2",C7>=10000),"ERROR- Site too large for metric - USE MAIN METRIC ▲",IF(AND(D6="Site area must be less than 5,000 m2",C7>=5000),"ERROR- Site too large for metric - USE MAIN METRIC ▲",""))}
B8: {=IF(OR(C6="Residential",C6="Other"),"N/A",IF(C6="","","16. Building footprint (m2) of commercial buildings proposed within the development site (or zero if none)"))} -> N/A | D8: {=IF(AND(B8="n/a",C8<>""),"ERROR- Not required",IF(AND(C8<>"",C8>=1000),"ERROR- Footprint too large for metric - USE MAIN METRIC",IF(AND(C8<>"",C8>C7),"ERROR - Footprint larger than development area","")))}
B9: {=IF(OR(C6="Commercial",C6="Other"),"N/A",IF(C6="","","17. Number of dwellings proposed within the development site"))} -> 17. Number of dwellings proposed within the development site | C9: Between 1 - 9 dwellings | D9: {=IF(AND(B9="n/a",C9<>""),"ERROR- Not required ▲",IF(OR(AND(C6="Residential",C9="Over 9 dwellings"),AND(C6="Mixed",C9="Over 9 dwellings")),"ERROR- Number of dwellings too large for metric - USE MAIN METRIC ▲",IF(AND(B9="17. Number of dwellings proposed within the development site",C9=""),"ERROR - You must specify number of dwellings ▲","")))}
B10: Designated sites and priority habitats
B11: 18. Any designated sites on or within 500m of the site? | C11: No | D11: {=IF(C11="On site","ERROR- Site too complex for metric - USE MAIN METRIC ▲",IF(C11="Within 500m of site boundary","Consider using main metric tool ⚠",""))}
B12: 19. Any priority habitats on or within 500m of the site? | C12: No | D12: {=IF(C12="On site","ERROR- Site too complex for metric - USE MAIN METRIC ▲",IF(C12="Within 500m of site boundary","Consider using main metric tool ⚠",""))}
B13: 20. List the designated sites and/or priority habitats
B14: 21. Information sources used for assessment of designated sites and priority habitats (See guidance)
B15: European protected species
B16: 22. Any european protected species present on site | C16: No | D16: {=IF(C16="Yes","ERROR- Site too complex for metric - USE MAIN METRIC ▲","")}
B18: Site walkover
B19: 23. Site walkover completed? | C19: Walkover completed by competent person | D19: {=IF(C19="Walkover completed by competent person","A competent person should be able to confidently identify the habitats onsite",IF(C19="No Walkover Undertaken","ERROR- Site walkover required",""))} -> A competent person should be able to confidently identify the habitats onsite
B20: 24. Date of site walkover - DD/MM/YY | C20: 45881 | D20: Site walkover data valid until 12/02/26
B21: 25. Who completed the walkover? (Name and job title) | C21: Thomas Gilmour
B22: Additional details
B23: 26. Any additional information or notes

Sheet 4. Supporting Information
B2: Site Name: | D2: {=IF('2. Site Details'!D4="","Enter site name on 2. Site Details",'2. Site Details'!D4)} -> Hull End Farm | E2: {=IF(OR('3. Desktop Assessment'!C19="Walkover completed by competent person",'3. Desktop Assessment'!C19="No walkover undertaken"),IF(COUNTA(D8:E8,D10:E10,D14:E14,D16:E16,D18:E18,D22:E22,D26:E26,D30:E30,D34:E34,D38:E38,D42:E42,D46:E46,D12:E12,D20:E20,D24:E24,D28:E28,D32:E32,D36:E36,D40:E40,D44:E44)=0,"Error - Site photographs required to support application",""),"")}
B3: Sheet Name | D3: Supporting Information
B5: Baseline Habitat Photos | D5: Insert photographs to support assumptions made in the metric
B7: Ref | C7: Habitat type | D7: Photo 1 | E7: Photo 2
B8: 1 | C8: Date taken | D8: Agricultural Grassland 16/09/2025 | E8: 17/11/2025
C9: {=IF('5. Area Habitats'!D11=0,"",'5. Area Habitats'!D11)} -> Other neutral grassland
B10: 2 | C10: Date taken
C11: {=IF('5. Area Habitats'!D12=0,"",'5. Area Habitats'!D12)}
B12: 3 | C12: Date taken
C13: {=IF('5. Area Habitats'!D13=0,"",'5. Area Habitats'!D13)}
B14: 4 | C14: Date taken
C15: {=IF('5. Area Habitats'!D14=0,"",'5. Area Habitats'!D14)}
B16: 5 | C16: Date taken
C17: {=IF('5. Area Habitats'!D15=0,"",'5. Area Habitats'!D15)}
B18: 6 | C18: Date taken
C19: {=IF('5. Area Habitats'!D16=0,"",'5. Area Habitats'!D16)}
B20: 7 | C20: Date taken
C21: {=IF('5. Area Habitats'!D17=0,"",'5. Area Habitats'!D17)}
B22: 8 | C22: Date taken
C23: {=IF('5. Area Habitats'!D18=0,"",'5. Area Habitats'!D18)}
B24: 9 | C24: Date taken
C25: {=IF('5. Area Habitats'!D19=0,"",'5. Area Habitats'!D19)}
B26: 10 | C26: Date taken
C27: {=IF('5. Area Habitats'!D20=0,"",'5. Area Habitats'!D20)}
B28: 11 | C28: Date taken
C29: {=IF('5. Area Habitats'!D21=0,"",'5. Area Habitats'!D21)}
B30: 12 | C30: Date taken
C31: {=IF('5. Area Habitats'!D22=0,"",'5. Area Habitats'!D22)}
B32: 13 | C32: Date taken
C33: {=IF('5. Area Habitats'!D23=0,"",'5. Area Habitats'!D23)}
B34: 14 | C34: Date taken
C35: {=IF('5. Area Habitats'!D24=0,"",'5. Area Habitats'!D24)}
B36: 15 | C36: Date taken
C37: {=IF('5. Area Habitats'!D25=0,"",'5. Area Habitats'!D25)}
B38: 16 | C38: Date taken
C39: {=IF('5. Area Habitats'!D26=0,"",'5. Area Habitats'!D26)}
B40: 17 | C40: Date taken
C41: {=IF('5. Area Habitats'!D27=0,"",'5. Area Habitats'!D27)}
B42: 18 | C42: Date taken
C43: {=IF('5. Area Habitats'!D28=0,"",'5. Area Habitats'!D28)}
...

Sheet 5. Area Habitats
O1: Retained Units | P1: {=IFERROR(SUM(AE11:AE31),"Error ▲")} -> 0.6392 | R1: Data beyond this column is automated
B2: Site Name | C2: {=IF('2. Site Details'!D4="","Enter site name on 2. Site Details",'2. Site Details'!D4)} -> Hull End Farm | F2: Instructions: 1. Enter data into 1a. Baseline habitats table 2. Enter data on habitats to be created into 1b. Habitats to be created 3. Enter data on habitats to be enhanced into 1c. Habitats to be enhanced 4. Enter data on individual trees into 1d. Tree area calculator | J2: {=IFERROR(IF(OR((ISNUMBER(SEARCH("▲",A7:Q101)))),"Input Errors Present On Sheet - Red Cells Or ▲ Highlight Errors","All Key Rules Satisfied ✓ "),"Technical Errors On Sheet ▲")} -> All Key Rules Satisfied ✓ | O2: Lost Units | P2: {=IFERROR(N32,"Error ▲")} -> 0.08
B3: Sheet Name | C3: 5. Area Habitats | O3: Created Units | P3: {=IFERROR(L61,"Error ▲")} -> 0.44617033
O4: Enhancement Units | P4: {=IFERROR(L89,"Error ▲")} -> 0
O5: Net Change | P5: {=IFERROR((P1+L61+L89)-L32,"Error ▲")} -> 0.36617033
B7: 1a. Baseline habitats
B9: Ref | C9: Habitat | F9: C. Strategic significance | I9: Areas (m2) | L9: Baseline results | O9: Comments | T9: Habitat distinctiveness | W9: Habitat condition | AB9: Strategic significance | AE9: Ecological baseline | AH9: Suggested action to address habitat losses | AI9: Enhancement rules
C10: A. Broad Habitat | D10: B. Habitat type | I10: D. Total Area | J10: E. Area retained | K10: F. Area enhanced | L10: Total habitat units onsite | M10: Area Lost | N10: Units lost | O10: User comments | P10: LPA comments | T10: Distinctiveness | V10: Score | W10: Condition | X10: Score | AB10: Strategic significance | AC10: Strategic significance | AD10: Strategic significance multiplier | AE10: Baseline units retained | AF10: Baseline units to be enhanced | AG10: Area lost
B11: 1 | C11: Grassland | D11: Other neutral grassland | F11: Area/compensation not in local strategy/ no local strategy | I11: 899 | J11: 799 | K11: 0 | L11: {=IF(C11="","",IFERROR(IF(I11="","",((I11/10000)*V11*X11)*AD11),"Error ▲"))} -> 0.7192 | M11: {=IF(I11="","",IF(J11+K11>I11,"Area Error ▲",I11-J11-K11))} -> 100 | N11: {=IFERROR(IF(I11="","",IF(M11="Area Error ▲","Area Error ▲",((M11/10000)*V11*X11)*AD11)),"This intervention is not permitted within the SSM ▲")} -> 0.08 | T11: {=IF(C11="","",VLOOKUP(D11,'9. All Habitats + Multipliers'!$C$4:$K$102,5,FALSE))} -> Medium | V11: {=IF(T11="","",VLOOKUP(T11,'11. Lists'!$B$47:$D$49,2,FALSE))} -> 4 | W11: {=IF(C11="","",VLOOKUP(D11,'10. Condition and Temporal'!$B$6:$C$103,2,FALSE))} -> Moderate | X11: {=IF(W11="","",VLOOKUP(W11,'11. Lists'!$F$47:$G$51,2,FALSE))} -> 2 | AB11: {=IF(F11="","",F11)} -> Area/compensation not in local strategy/ no local strategy | AC11: {=IF(AB11="","",VLOOKUP(AB11,'11. Lists'!$F$36:$H$38,2,FALSE))} -> Low Strategic Significance | AD11: {=IF(AB11="","",VLOOKUP(AB11,'11. Lists'!$F$36:$H$38,3,FALSE))} -> 1 | AE11: {=IF(D11="","",((J11/10000)*V11*X11)*AD11)} -> 0.6392 | AF11: {=IF(D11="","",((K11/10000)*V11*X11)*AD11)} -> 0 | AG11: {=IF(D11="","",M11)} -> 100 | AH11: {=IF(T11="","",VLOOKUP(T11,'11. Lists'!$B$47:$D$49,3,FALSE))} -> Same broad habitat or a higher distinctiveness habitat required | AI11: {=IF(D11="","",VLOOKUP(D11,'10. Condition and Temporal'!$B$6:$L$103,4,FALSE))} -> Other neutral grassland
B12: 2 | L12: {=IF(C12="","",IFERROR(IF(I12="","",((I12/10000)*V12*X12)*AD12),"Error ▲"))} | M12: {=IF(I12="","",IF(J12+K12>I12,"Area Error ▲",I12-J12-K12))} | N12: {=IFERROR(IF(I12="","",IF(M12="Area Error ▲","Area Error ▲",((M12/10000)*V12*X12)*AD12)),"This intervention is not permitted within the SSM ▲")} | T12: {=IF(C12="","",VLOOKUP(D12,'9. All Habitats + Multipliers'!$C$4:$K$102,5,FALSE))} | V12: {=IF(T12="","",VLOOKUP(T12,'11. Lists'!$B$47:$D$49,2,FALSE))} | W12: {=IF(C12="","",VLOOKUP(D12,'10. Condition and Temporal'!$B$6:$C$103,2,FALSE))} | X12: {=IF(W12="","",VLOOKUP(W12,'11. Lists'!$F$47:$G$51,2,FALSE))} | AB12: {=IF(F12="","",F12)} | AC12: {=IF(AB12="","",VLOOKUP(AB12,'11. Lists'!$F$36:$H$38,2,FALSE))} | AD12: {=IF(AB12="","",VLOOKUP(AB12,'11. Lists'!$F$36:$H$38,3,FALSE))} | AE12: {=IF(D12="","",((J12/10000)*V12*X12)*AD12)} | AF12: {=IF(D12="","",((K12/10000)*V12*X12)*AD12)} | AG12: {=IF(D12="","",M12)} | AH12: {=IF(T12="","",VLOOKUP(T12,'11. Lists'!$B$47:$D$49,3,FALSE))} | AI12: {=IF(D12="","",VLOOKUP(D12,'10. Condition and Temporal'!$B$6:$L$103,4,FALSE))}
B13: 3 | L13: {=IF(C13="","",IFERROR(IF(I13="","",((I13/10000)*V13*X13)*AD13),"Error ▲"))} | M13: {=IF(I13="","",IF(J13+K13>I13,"Area Error ▲",I13-J13-K13))} | N13: {=IFERROR(IF(I13="","",IF(M13="Area Error ▲","Area Error ▲",((M13/10000)*V13*X13)*AD13)),"This intervention is not permitted within the SSM ▲")} | T13: {=IF(C13="","",VLOOKUP(D13,'9. All Habitats + Multipliers'!$C$4:$K$102,5,FALSE))} | V13: {=IF(T13="","",VLOOKUP(T13,'11. Lists'!$B$47:$D$49,2,FALSE))} | W13: {=IF(C13="","",VLOOKUP(D13,'10. Condition and Temporal'!$B$6:$C$103,2,FALSE))} | X13: {=IF(W13="","",VLOOKUP(W13,'11. Lists'!$F$47:$G$51,2,FALSE))} | AB13: {=IF(F13="","",F13)} | AC13: {=IF(AB13="","",VLOOKUP(AB13,'11. Lists'!$F$36:$H$38,2,FALSE))} | AD13: {=IF(AB13="","",VLOOKUP(AB13,'11. Lists'!$F$36:$H$38,3,FALSE))} | AE13: {=IF(D13="","",((J13/10000)*V13*X13)*AD13)} | AF13: {=IF(D13="","",((K13/10000)*V13*X13)*AD13)} | AG13: {=IF(D13="","",M13)} | AH13: {=IF(T13="","",VLOOKUP(T13,'11. Lists'!$B$47:$D$49,3,FALSE))} | AI13: {=IF(D13="","",VLOOKUP(D13,'10. Condition and Temporal'!$B$6:$L$103,4,FALSE))}
B14: 4 | L14: {=IF(C14="","",IFERROR(IF(I14="","",((I14/10000)*V14*X14)*AD14),"Error ▲"))} | M14: {=IF(I14="","",IF(J14+K14>I14,"Area Error ▲",I14-J14-K14))} | N14: {=IFERROR(IF(I14="","",IF(M14="Area Error ▲","Area Error ▲",((M14/10000)*V14*X14)*AD14)),"This intervention is not permitted within the SSM ▲")} | T14: {=IF(C14="","",VLOOKUP(D14,'9. All Habitats + Multipliers'!$C$4:$K$102,5,FALSE))} | V14: {=IF(T14="","",VLOOKUP(T14,'11. Lists'!$B$47:$D$49,2,FALSE))} | W14: {=IF(C14="","",VLOOKUP(D14,'10. Condition and Temporal'!$B$6:$C$103,2,FALSE))} | X14: {=IF(W14="","",VLOOKUP(W14,'11. Lists'!$F$47:$G$51,2,FALSE))} | AB14: {=IF(F14="","",F14)} | AC14: {=IF(AB14="","",VLOOKUP(AB14,'11. Lists'!$F$36:$H$38,2,FALSE))} | AD14: {=IF(AB14="","",VLOOKUP(AB14,'11. Lists'!$F$36:$H$38,3,FALSE))} | AE14: {=IF(D14="","",((J14/10000)*V14*X14)*AD14)} | AF14: {=IF(D14="","",((K14/10000)*V14*X14)*AD14)} | AG14: {=IF(D14="","",M14)} | AH14: {=IF(T14="","",VLOOKUP(T14,'11. Lists'!$B$47:$D$49,3,FALSE))} | AI14: {=IF(D14="","",VLOOKUP(D14,'10. Condition and Temporal'!$B$6:$L$103,4,FALSE))}
B15: 5 | L15: {=IF(C15="","",IFERROR(IF(I15="","",((I15/10000)*V15*X15)*AD15),"Error ▲"))} | M15: {=IF(I15="","",IF(J15+K15>I15,"Area Error ▲",I15-J15-K15))} | N15: {=IFERROR(IF(I15="","",IF(M15="Area Error ▲","Area Error ▲",((M15/10000)*V15*X15)*AD15)),"This intervention is not permitted within the SSM ▲")} | T15: {=IF(C15="","",VLOOKUP(D15,'9. All Habitats + Multipliers'!$C$4:$K$102,5,FALSE))} | V15: {=IF(T15="","",VLOOKUP(T15,'11. Lists'!$B$47:$D$49,2,FALSE))} | W15: {=IF(C15="","",VLOOKUP(D15,'10. Condition and Temporal'!$B$6:$C$103,2,FALSE))} | X15: {=IF(W15="","",VLOOKUP(W15,'11. Lists'!$F$47:$G$51,2,FALSE))} | AB15: {=IF(F15="","",F15)} | AC15: {=IF(AB15="","",VLOOKUP(AB15,'11. Lists'!$F$36:$H$38,2,FALSE))} | AD15: {=IF(AB15="","",VLOOKUP(AB15,'11. Lists'!$F$36:$H$38,3,FALSE))} | AE15: {=IF(D15="","",((J15/10000)*V15*X15)*AD15)} | AF15: {=IF(D15="","",((K15/10000)*V15*X15)*AD15)} | AG15: {=IF(D15="","",M15)} | AH15: {=IF(T15="","",VLOOKUP(T15,'11. Lists'!$B$47:$D$49,3,FALSE))} | AI15: {=IF(D15="","",VLOOKUP(D15,'10. Condition and Temporal'!$B$6:$L$103,4,FALSE))}
B16: 6 | L16: {=IF(C16="","",IFERROR(IF(I16="","",((I16/10000)*V16*X16)*AD16),"Error ▲"))} | M16: {=IF(I16="","",IF(J16+K16>I16,"Area Error ▲",I16-J16-K16))} | N16: {=IFERROR(IF(I16="","",IF(M16="Area Error ▲","Area Error ▲",((M16/10000)*V16*X16)*AD16)),"This intervention is not permitted within the SSM ▲")} | T16: {=IF(C16="","",VLOOKUP(D16,'9. All Habitats + Multipliers'!$C$4:$K$102,5,FALSE))} | V16: {=IF(T16="","",VLOOKUP(T16,'11. Lists'!$B$47:$D$49,2,FALSE))} | W16: {=IF(C16="","",VLOOKUP(D16,'10. Condition and Temporal'!$B$6:$C$103,2,FALSE))} | X16: {=IF(W16="","",VLOOKUP(W16,'11. Lists'!$F$47:$G$51,2,FALSE))} | AB16: {=IF(F16="","",F16)} | AC16: {=IF(AB16="","",VLOOKUP(AB16,'11. Lists'!$F$36:$H$38,2,FALSE))} | AD16: {=IF(AB16="","",VLOOKUP(AB16,'11. Lists'!$F$36:$H$38,3,FALSE))} | AE16: {=IF(D16="","",((J16/10000)*V16*X16)*AD16)} | AF16: {=IF(D16="","",((K16/10000)*V16*X16)*AD16)} | AG16: {=IF(D16="","",M16)} | AH16: {=IF(T16="","",VLOOKUP(T16,'11. Lists'!$B$47:$D$49,3,FALSE))} | AI16: {=IF(D16="","",VLOOKUP(D16,'10. Condition and Temporal'!$B$6:$L$103,4,FALSE))}
B17: 7 | L17: {=IF(C17="","",IFERROR(IF(I17="","",((I17/10000)*V17*X17)*AD17),"Error ▲"))} | M17: {=IF(I17="","",IF(J17+K17>I17,"Area Error ▲",I17-J17-K17))} | N17: {=IFERROR(IF(I17="","",IF(M17="Area Error ▲","Area Error ▲",((M17/10000)*V17*X17)*AD17)),"This intervention is not permitted within the SSM ▲")} | T17: {=IF(C17="","",VLOOKUP(D17,'9. All Habitats + Multipliers'!$C$4:$K$102,5,FALSE))} | V17: {=IF(T17="","",VLOOKUP(T17,'11. Lists'!$B$47:$D$49,2,FALSE))} | W17: {=IF(C17="","",VLOOKUP(D17,'10. Condition and Temporal'!$B$6:$C$103,2,FALSE))} | X17: {=IF(W17="","",VLOOKUP(W17,'11. Lists'!$F$47:$G$51,2,FALSE))} | AB17: {=IF(F17="","",F17)} | AC17: {=IF(AB17="","",VLOOKUP(AB17,'11. Lists'!$F$36:$H$38,2,FALSE))} | AD17: {=IF(AB17="","",VLOOKUP(AB17,'11. Lists'!$F$36:$H$38,3,FALSE))} | AE17: {=IF(D17="","",((J17/10000)*V17*X17)*AD17)} | AF17: {=IF(D17="","",((K17/10000)*V17*X17)*AD17)} | AG17: {=IF(D17="","",M17)} | AH17: {=IF(T17="","",VLOOKUP(T17,'11. Lists'!$B$47:$D$49,3,FALSE))} | AI17: {=IF(D17="","",VLOOKUP(D17,'10. Condition and Temporal'!$B$6:$L$103,4,FALSE))}
B18: 8 | L18: {=IF(C18="","",IFERROR(IF(I18="","",((I18/10000)*V18*X18)*AD18),"Error ▲"))} | M18: {=IF(I18="","",IF(J18+K18>I18,"Area Error ▲",I18-J18-K18))} | N18: {=IFERROR(IF(I18="","",IF(M18="Area Error ▲","Area Error ▲",((M18/10000)*V18*X18)*AD18)),"This intervention is not permitted within the SSM ▲")} | T18: {=IF(C18="","",VLOOKUP(D18,'9. All Habitats + Multipliers'!$C$4:$K$102,5,FALSE))} | V18: {=IF(T18="","",VLOOKUP(T18,'11. Lists'!$B$47:$D$49,2,FALSE))} | W18: {=IF(C18="","",VLOOKUP(D18,'10. Condition and Temporal'!$B$6:$C$103,2,FALSE))} | X18: {=IF(W18="","",VLOOKUP(W18,'11. Lists'!$F$47:$G$51,2,FALSE))} | AB18: {=IF(F18="","",F18)} | AC18: {=IF(AB18="","",VLOOKUP(AB18,'11. Lists'!$F$36:$H$38,2,FALSE))} | AD18: {=IF(AB18="","",VLOOKUP(AB18,'11. Lists'!$F$36:$H$38,3,FALSE))} | AE18: {=IF(D18="","",((J18/10000)*V18*X18)*AD18)} | AF18: {=IF(D18="","",((K18/10000)*V18*X18)*AD18)} | AG18: {=IF(D18="","",M18)} | AH18: {=IF(T18="","",VLOOKUP(T18,'11. Lists'!$B$47:$D$49,3,FALSE))} | AI18: {=IF(D18="","",VLOOKUP(D18,'10. Condition and Temporal'!$B$6:$L$103,4,FALSE))}
B19: 9 | L19: {=IF(C19="","",IFERROR(IF(I19="","",((I19/10000)*V19*X19)*AD19),"Error ▲"))} | M19: {=IF(I19="","",IF(J19+K19>I19,"Area Error ▲",I19-J19-K19))} | N19: {=IFERROR(IF(I19="","",IF(M19="Area Error ▲","Area Error ▲",((M19/10000)*V19*X19)*AD19)),"This intervention is not permitted within the SSM ▲")} | T19: {=IF(C19="","",VLOOKUP(D19,'9. All Habitats + Multipliers'!$C$4:$K$102,5,FALSE))} | V19: {=IF(T19="","",VLOOKUP(T19,'11. Lists'!$B$47:$D$49,2,FALSE))} | W19: {=IF(C19="","",VLOOKUP(D19,'10. Condition and Temporal'!$B$6:$C$103,2,FALSE))} | X19: {=IF(W19="","",VLOOKUP(W19,'11. Lists'!$F$47:$G$51,2,FALSE))} | AB19: {=IF(F19="","",F19)} | AC19: {=IF(AB19="","",VLOOKUP(AB19,'11. Lists'!$F$36:$H$38,2,FALSE))} | AD19: {=IF(AB19="","",VLOOKUP(AB19,'11. Lists'!$F$36:$H$38,3,FALSE))} | AE19: {=IF(D19="","",((J19/10000)*V19*X19)*AD19)} | AF19: {=IF(D19="","",((K19/10000)*V19*X19)*AD19)} | AG19: {=IF(D19="","",M19)} | AH19: {=IF(T19="","",VLOOKUP(T19,'11. Lists'!$B$47:$D$49,3,FALSE))} | AI19: {=IF(D19="","",VLOOKUP(D19,'10. Condition and Temporal'!$B$6:$L$103,4,FALSE))}
B20: 10 | L20: {=IF(C20="","",IFERROR(IF(I20="","",((I20/10000)*V20*X20)*AD20),"Error ▲"))} | M20: {=IF(I20="","",IF(J20+K20>I20,"Area Error ▲",I20-J20-K20))} | N20: {=IFERROR(IF(I20="","",IF(M20="Area Error ▲","Area Error ▲",((M20/10000)*V20*X20)*AD20)),"This intervention is not permitted within the SSM ▲")} | T20: {=IF(C20="","",VLOOKUP(D20,'9. All Habitats + Multipliers'!$C$4:$K$102,5,FALSE))} | V20: {=IF(T20="","",VLOOKUP(T20,'11. Lists'!$B$47:$D$49,2,FALSE))} | W20: {=IF(C20="","",VLOOKUP(D20,'10. Condition and Temporal'!$B$6:$C$103,2,FALSE))} | X20: {=IF(W20="","",VLOOKUP(W20,'11. Lists'!$F$47:$G$51,2,FALSE))} | AB20: {=IF(F20="","",F20)} | AC20: {=IF(AB20="","",VLOOKUP(AB20,'11. Lists'!$F$36:$H$38,2,FALSE))} | AD20: {=IF(AB20="","",VLOOKUP(AB20,'11. Lists'!$F$36:$H$38,3,FALSE))} | AE20: {=IF(D20="","",((J20/10000)*V20*X20)*AD20)} | AF20: {=IF(D20="","",((K20/10000)*V20*X20)*AD20)} | AG20: {=IF(D20="","",M20)} | AH20: {=IF(T20="","",VLOOKUP(T20,'11. Lists'!$B$47:$D$49,3,FALSE))} | AI20: {=IF(D20="","",VLOOKUP(D20,'10. Condition and Temporal'!$B$6:$L$103,4,FALSE))}
B21: 11 | L21: {=IF(C21="","",IFERROR(IF(I21="","",((I21/10000)*V21*X21)*AD21),"Error ▲"))} | M21: {=IF(I21="","",IF(J21+K21>I21,"Area Error ▲",I21-J21-K21))} | N21: {=IFERROR(IF(I21="","",IF(M21="Area Error ▲","Area Error ▲",((M21/10000)*V21*X21)*AD21)),"This intervention is not permitted within the SSM ▲")} | T21: {=IF(C21="","",VLOOKUP(D21,'9. All Habitats + Multipliers'!$C$4:$K$102,5,FALSE))} | V21: {=IF(T21="","",VLOOKUP(T21,'11. Lists'!$B$47:$D$49,2,FALSE))} | W21: {=IF(C21="","",VLOOKUP(D21,'10. Condition and Temporal'!$B$6:$C$103,2,FALSE))} | X21: {=IF(W21="","",VLOOKUP(W21,'11. Lists'!$F$47:$G$51,2,FALSE))} | AB21: {=IF(F21="","",F21)} | AC21: {=IF(AB21="","",VLOOKUP(AB21,'11. Lists'!$F$36:$H$38,2,FALSE))} | AD21: {=IF(AB21="","",VLOOKUP(AB21,'11. Lists'!$F$36:$H$38,3,FALSE))} | AE21: {=IF(D21="","",((J21/10000)*V21*X21)*AD21)} | AF21: {=IF(D21="","",((K21/10000)*V21*X21)*AD21)} | AG21: {=IF(D21="","",M21)} | AH21: {=IF(T21="","",VLOOKUP(T21,'11. Lists'!$B$47:$D$49,3,FALSE))} | AI21: {=IF(D21="","",VLOOKUP(D21,'10. Condition and Temporal'!$B$6:$L$103,4,FALSE))}
B22: 12 | L22: {=IF(C22="","",IFERROR(IF(I22="","",((I22/10000)*V22*X22)*AD22),"Error ▲"))} | M22: {=IF(I22="","",IF(J22+K22>I22,"Area Error ▲",I22-J22-K22))} | N22: {=IFERROR(IF(I22="","",IF(M22="Area Error ▲","Area Error ▲",((M22/10000)*V22*X22)*AD22)),"This intervention is not permitted within the SSM ▲")} | T22: {=IF(C22="","",VLOOKUP(D22,'9. All Habitats + Multipliers'!$C$4:$K$102,5,FALSE))} | V22: {=IF(T22="","",VLOOKUP(T22,'11. Lists'!$B$47:$D$49,2,FALSE))} | W22: {=IF(C22="","",VLOOKUP(D22,'10. Condition and Temporal'!$B$6:$C$103,2,FALSE))} | X22: {=IF(W22="","",VLOOKUP(W22,'11. Lists'!$F$47:$G$51,2,FALSE))} | AB22: {=IF(F22="","",F22)} | AC22: {=IF(AB22="","",VLOOKUP(AB22,'11. Lists'!$F$36:$H$38,2,FALSE))} | AD22: {=IF(AB22="","",VLOOKUP(AB22,'11. Lists'!$F$36:$H$38,3,FALSE))} | AE22: {=IF(D22="","",((J22/10000)*V22*X22)*AD22)} | AF22: {=IF(D22="","",((K22/10000)*V22*X22)*AD22)} | AG22: {=IF(D22="","",M22)} | AH22: {=IF(T22="","",VLOOKUP(T22,'11. Lists'!$B$47:$D$49,3,FALSE))} | AI22: {=IF(D22="","",VLOOKUP(D22,'10. Condition and Temporal'!$B$6:$L$103,4,FALSE))}
B23: 13 | L23: {=IF(C23="","",IFERROR(IF(I23="","",((I23/10000)*V23*X23)*AD23),"Error ▲"))} | M23: {=IF(I23="","",IF(J23+K23>I23,"Area Error ▲",I23-J23-K23))} | N23: {=IFERROR(IF(I23="","",IF(M23="Area Error ▲","Area Error ▲",((M23/10000)*V23*X23)*AD23)),"This intervention is not permitted within the SSM ▲")} | T23: {=IF(C23="","",VLOOKUP(D23,'9. All Habitats + Multipliers'!$C$4:$K$102,5,FALSE))} | V23: {=IF(T23="","",VLOOKUP(T23,'11. Lists'!$B$47:$D$49,2,FALSE))} | W23: {=IF(C23="","",VLOOKUP(D23,'10. Condition and Temporal'!$B$6:$C$103,2,FALSE))} | X23: {=IF(W23="","",VLOOKUP(W23,'11. Lists'!$F$47:$G$51,2,FALSE))} | AB23: {=IF(F23="","",F23)} | AC23: {=IF(AB23="","",VLOOKUP(AB23,'11. Lists'!$F$36:$H$38,2,FALSE))} | AD23: {=IF(AB23="","",VLOOKUP(AB23,'11. Lists'!$F$36:$H$38,3,FALSE))} | AE23: {=IF(D23="","",((J23/10000)*V23*X23)*AD23)} | AF23: {=IF(D23="","",((K23/10000)*V23*X23)*AD23)} | AG23: {=IF(D23="","",M23)} | AH23: {=IF(T23="","",VLOOKUP(T23,'11. Lists'!$B$47:$D$49,3,FALSE))} | AI23: {=IF(D23="","",VLOOKUP(D23,'10. Condition and Temporal'!$B$6:$L$103,4,FALSE))}
... B30: 20 | L30: {=IF(C30="","",IFERROR(IF(I30="","",((I30/10000)*V30*X30)*AD30),"Error ▲"))} | M30: {=IF(I30="","",IF(J30+K30>I30,"Area Error ▲",I30-J30-K30))} | N30: {=IFERROR(IF(I30="","",IF(M30="Area Error ▲","Area Error ▲",((M30/10000)*V30*X30)*AD30)),"This intervention is not permitted within the SSM ▲")} | T30: {=IF(C30="","",VLOOKUP(D30,'9. All Habitats + Multipliers'!$C$4:$K$102,5,FALSE))} | V30: {=IF(T30="","",VLOOKUP(T30,'11. Lists'!$B$47:$D$49,2,FALSE))} | W30: {=IF(C30="","",VLOOKUP(D30,'10. Condition and Temporal'!$B$6:$C$103,2,FALSE))} | X30: {=IF(W30="","",VLOOKUP(W30,'11. Lists'!$F$47:$G$51,2,FALSE))} | AB30: {=IF(F30="","",F30)} | AC30: {=IF(AB30="","",VLOOKUP(AB30,'11. Lists'!$F$36:$H$38,2,FALSE))} | AD30: {=IF(AB30="","",VLOOKUP(AB30,'11. Lists'!$F$36:$H$38,3,FALSE))} | AE30: {=IF(D30="","",((J30/10000)*V30*X30)*AD30)} | AF30: {=IF(D30="","",((K30/10000)*V30*X30)*AD30)} | AG30: {=IF(D30="","",M30)} | AH30: {=IF(T30="","",VLOOKUP(T30,'11. Lists'!$B$47:$D$49,3,FALSE))} | AI30: {=IF(D30="","",VLOOKUP(D30,'10. Condition and Temporal'!$B$6:$L$103,4,FALSE))}
B31: Trees | C31: Individual trees | D31: Urban/rural tree | F31: Formally identified in local strategy | I31: {=I99} -> 0 | J31: {=L99} -> 0 | L31: {=IF(C31="","",((I31/10000)*V31*X31)*AD31)} -> 0 | M31: {=IF(C31="","",I31-J31-K31)} -> 0 | N31: {=IF(C31="","",((M31/10000)*V31*X31)*AD31)} -> 0 | T31: {=IF(C31="","",VLOOKUP(D31,'9. All Habitats + Multipliers'!$C$4:$K$102,5,FALSE))} -> Medium | V31: {=IF(T31="","",VLOOKUP(T31,'11. Lists'!$B$47:$D$49,2,FALSE))} -> 4 | W31: {=IF(C31="","",VLOOKUP(D31,'10. Condition and Temporal'!$B$6:$C$103,2,FALSE))} -> Moderate | X31: {=IF(W31="","",VLOOKUP(W31,'11. Lists'!$F$47:$G$51,2,FALSE))} -> 2 | AB31: {=IF(F31="","",F31)} -> Formally identified in local strategy | AC31: {=IF(AB31="","",VLOOKUP(AB31,'11. Lists'!$F$36:$H$38,2,FALSE))} -> High strategic significance | AD31: {=IF(AB31="","",VLOOKUP(AB31,'11. Lists'!$F$36:$H$38,3,FALSE))} -> 1.15 | AE31: {=IF(D31="","",((J31/10000)*V31*X31)*(AD31))} -> 0 | AF31: {=IF(D31="","",((K31/10000)*V31*X31)*(AD31))} -> 0 | AG31: {=IF(D31="","",M31)} -> 0 | AH31: {=IF(T31="","",VLOOKUP(T31,'11. Lists'!$B$47:$D$49,3,FALSE))} -> Same broad habitat or a higher distinctiveness habitat required | AI31: {=IF(D31="","",VLOOKUP(D31,'10. Condition and Temporal'!$B$6:$L$103,4,FALSE))} -> Urban/rural tree
H32: Totals (areas excl trees, green walls and intertidal hard structures) | I32: {=SUMIFS(I11:I30,D11:D30,"<>"&'11. Lists'!Q10,D11:D30,"<>"&'11. Lists'!Q11,D11:D30,"<>"&'11. Lists'!I4,D11:D30,"<>"&'11. Lists'!I2,D11:D30,"<>"&'11. Lists'!I3)} -> 899 | J32: {=SUMIFS(J11:J30,D11:D30,"<>"&'11. Lists'!Q10,D11:D30,"<>"&'11. Lists'!Q11,D11:D30,"<>"&'11. Lists'!I4,D11:D30,"<>"&'11. Lists'!I2,D11:D30,"<>"&'11. Lists'!I3)} -> 799 | K32: {=SUMIFS(K11:K30,D11:D30,"<>"&'11. Lists'!Q10,D11:D30,"<>"&'11. Lists'!Q11,D11:D30,"<>"&'11. Lists'!I4,D11:D30,"<>"&'11. Lists'!I2,D11:D30,"<>"&'11. Lists'!I3)} -> 0 | L32: {=SUM(L11:L31)} -> 0.7192 | M32: {=SUMIFS(M11:M30,D11:D30,"<>"&'11. Lists'!Q10,D11:D30,"<>"&'11. Lists'!Q11,D11:D30,"<>"&'11. Lists'!I4,D11:D30,"<>"&'11. Lists'!I2,D11:D30,"<>"&'11. Lists'!I3)} -> 100 | N32: {=SUM(N11:N31)} -> 0.08
H33: Error Check 1 | I33: {=IF(I32=0,"Areas Acceptable ✓",IF(AND('3. Desktop Assessment'!C6="Residential",I32<10000,'3. Desktop Assessment'!C9="Between 1 - 9 dwellings"),"Areas Acceptable ✓",IF(AND('3. Desktop Assessment'!C6="Residential",I32<5000,'3. Desktop Assessment'!C9="Unknown number"),"Areas Acceptable ✓",IF(AND('3. Desktop Assessment'!C6="Commercial",I32<10000,'3. Desktop Assessment'!C8<1000),"Areas Acceptable ✓",IF(AND('3. Desktop Assessment'!C6="Mixed",I32<10000,'3. Desktop Assessment'!C9="Between 1 - 9 dwellings",'3. Desktop Assessment'!C8<1000),"Areas Acceptable ✓",IF(AND('3. Desktop Assessment'!C6="Mixed",I32<5000,'3. Desktop Assessment'!C9="Unknown number",'3. Desktop Assessment'!C8<1000),"Areas Acceptable ✓",IF(AND('3. Desktop Assessment'!C6="Other",I32<10000),"Areas Acceptable ✓","Error - Site exceeds areas appropriate for the small sites metric ▲")))))))} -> Areas Acceptable ✓ | O33: {=IFERROR(FIND("Error",I33),0)} -> 0
H34: Error Check 2 | I34: {=IF(I32<J32+K32,"Error - Areas Retained and Enhanced Exceed Total Area ▲","Areas Acceptable ✓")} -> Areas Acceptable ✓ | O34: {=IFERROR(FIND("Error",I34),0)} -> 0
H35: Error Check 3 | I35: {=IF(I32=0,"Areas Acceptable ✓",IF(I32<>'3. Desktop Assessment'!C7,"Error - Areas Entered Does Not Match Stated Site Area ▲","Areas Acceptable ✓"))} -> Areas Acceptable ✓ | O35: {=IFERROR(FIND("Error",I35),0)} -> 0 | R35: Data beyond this column is automated
B36: 1b. Habitats to be created | O36: {=COUNTIF(L11:N30,"*"&"error"&"*")} -> 0
B38: Ref | E38: Condition Assessment | H38: D. Strategic significance | I38: E. Total Area (m2) | L38: Habitat units created onsite | O38: Comments | T38: Habitat distinctiveness | W38: Habitat condition | AB38: Strategic significance | AE38: Temporal multiplier | AG38: Difficulty multipliers
C39: A. Broad Habitat | D39: B. Habitat type | E39: Acceptable condition options | F39: C. Targeted condition | O39: User comments | P39: LPA comments | T39: Distinctiveness | V39: Score | W39: Condition | X39: Score | AB39: Strategic significance | AC39: Strategic significance | AD39: Strategic significance multiplier | AE39: Time to target condition/years | AF39: Time to target multiplier | AG39: Difficulty of creation category | AH39: Difficulty of creation multiplier
B40: 1 | C40: Woodland and forest | D40: Other woodland; mixed | E40: {=IF(D40="","",VLOOKUP(D40,'10. Condition and Temporal'!$B$6:$D$103,3,FALSE))} -> Moderate, Good | F40: Good | H40: Area/compensation not in local strategy/ no local strategy | I40: 100 | L40: {=IF(C40="","",IFERROR(IF(I40="","",((I40/10000)*(V40*X40))*(AH40*AF40)*AD40),"This intervention is not permitted within the SSM ▲"))} -> 0.038375608 | T40: {=IF(C40="","",VLOOKUP(D40,'9. All Habitats + Multipliers'!$C$4:$K$102,5,FALSE))} -> Medium | V40: {=IF(T40="","",VLOOKUP(T40,'11. Lists'!$B$47:$D$49,2,FALSE))} -> 4 | W40: {=IF(F40="","",F40)} -> Good | X40: {=IF(W40="","",VLOOKUP(W40,'11. Lists'!$F$47:$G$51,2,FALSE))} -> 3 | AB40: {=IF(H40="","",H40)} -> Area/compensation not in local strategy/ no local strategy | AC40: {=IF(AB40="","",VLOOKUP(AB40,'11. Lists'!$F$36:$H$38,2,FALSE))} -> Low Strategic Significance | AD40: {=IF(AB40="","",VLOOKUP(AB40,'11. Lists'!$F$36:$H$38,3,FALSE))} -> 1 | AE40: 30+ | AF40: {=IF(AE40="","",VLOOKUP(AE40,'11. Lists'!$I$47:$K$80,3,FALSE))} -> 0.31979674 | AG40: {=IF(D40="","",VLOOKUP(D40,'9. All Habitats + Multipliers'!$C$4:$K$102,7,FALSE))} -> Low | AH40: {=IF(AG40="","",VLOOKUP(AG40,'11. Lists'!$J$35:$K$38,2,FALSE))} -> 1
B41: 2 | E41: {=IF(D41="","",VLOOKUP(D41,'10. Condition and Temporal'!$B$6:$D$103,3,FALSE))} | L41: {=IF(C41="","",IFERROR(IF(I41="","",((I41/10000)*(V41*X41))*(AH41*AF41)*AD41),"This intervention is not permitted within the SSM ▲"))} | T41: {=IF(C41="","",VLOOKUP(D41,'9. All Habitats + Multipliers'!$C$4:$K$102,5,FALSE))} | V41: {=IF(T41="","",VLOOKUP(T41,'11. Lists'!$B$47:$D$49,2,FALSE))} | W41: {=IF(F41="","",F41)} | X41: {=IF(W41="","",VLOOKUP(W41,'11. Lists'!$F$47:$G$51,2,FALSE))} | AB41: {=IF(H41="","",H41)} | AC41: {=IF(AB41="","",VLOOKUP(AB41,'11. Lists'!$F$36:$H$38,2,FALSE))} | AD41: {=IF(AB41="","",VLOOKUP(AB41,'11. Lists'!$F$36:$H$38,3,FALSE))} | AF41: {=IF(AE41="","",VLOOKUP(AE41,'11. Lists'!$I$47:$K$80,3,FALSE))} | AG41: {=IF(D41="","",VLOOKUP(D41,'9. All Habitats + Multipliers'!$C$4:$K$102,7,FALSE))} | AH41: {=IF(AG41="","",VLOOKUP(AG41,'11. Lists'!$J$35:$K$38,2,FALSE))}
B42: 3 | E42: {=IF(D42="","",VLOOKUP(D42,'10. Condition and Temporal'!$B$6:$D$103,3,FALSE))} | L42: {=IF(C42="","",IFERROR(IF(I42="","",((I42/10000)*(V42*X42))*(AH42*AF42)*AD42),"This intervention is not permitted within the SSM ▲"))} | T42: {=IF(C42="","",VLOOKUP(D42,'9. All Habitats + Multipliers'!$C$4:$K$102,5,FALSE))} | V42: {=IF(T42="","",VLOOKUP(T42,'11. Lists'!$B$47:$D$49,2,FALSE))} | W42: {=IF(F42="","",F42)} | X42: {=IF(W42="","",VLOOKUP(W42,'11. Lists'!$F$47:$G$51,2,FALSE))} | AB42: {=IF(H42="","",H42)} | AC42: {=IF(AB42="","",VLOOKUP(AB42,'11. Lists'!$F$36:$H$38,2,FALSE))} | AD42: {=IF(AB42="","",VLOOKUP(AB42,'11. Lists'!$F$36:$H$38,3,FALSE))} | AF42: {=IF(AE42="","",VLOOKUP(AE42,'11. Lists'!$I$47:$K$80,3,FALSE))} | AG42: {=IF(D42="","",VLOOKUP(D42,'9. All Habitats + Multipliers'!$C$4:$K$102,7,FALSE))} | AH42: {=IF(AG42="","",VLOOKUP(AG42,'11. Lists'!$J$35:$K$38,2,FALSE))}
B43: 4 | E43: {=IF(D43="","",VLOOKUP(D43,'10. Condition and Temporal'!$B$6:$D$103,3,FALSE))} | L43: {=IF(C43="","",IFERROR(IF(I43="","",((I43/10000)*(V43*X43))*(AH43*AF43)*AD43),"This intervention is not permitted within the SSM ▲"))} | T43: {=IF(C43="","",VLOOKUP(D43,'9. All Habitats + Multipliers'!$C$4:$K$102,5,FALSE))} | V43: {=IF(T43="","",VLOOKUP(T43,'11. Lists'!$B$47:$D$49,2,FALSE))} | W43: {=IF(F43="","",F43)} | X43: {=IF(W43="","",VLOOKUP(W43,'11. Lists'!$F$47:$G$51,2,FALSE))} | AB43: {=IF(H43="","",H43)} | AC43: {=IF(AB43="","",VLOOKUP(AB43,'11. Lists'!$F$36:$H$38,2,FALSE))} | AD43: {=IF(AB43="","",VLOOKUP(AB43,'11. Lists'!$F$36:$H$38,3,FALSE))} | AF43: {=IF(AE43="","",VLOOKUP(AE43,'11. Lists'!$I$47:$K$80,3,FALSE))} | AG43: {=IF(D43="","",VLOOKUP(D43,'9. All Habitats + Multipliers'!$C$4:$K$102,7,FALSE))} | AH43: {=IF(AG43="","",VLOOKUP(AG43,'11. Lists'!$J$35:$K$38,2,FALSE))}
B44: 5 | E44: {=IF(D44="","",VLOOKUP(D44,'10. Condition and Temporal'!$B$6:$D$103,3,FALSE))} | L44: {=IF(C44="","",IFERROR(IF(I44="","",((I44/10000)*(V44*X44))*(AH44*AF44)*AD44),"This intervention is not permitted within the SSM ▲"))} | T44: {=IF(C44="","",VLOOKUP(D44,'9. All Habitats + Multipliers'!$C$4:$K$102,5,FALSE))} | V44: {=IF(T44="","",VLOOKUP(T44,'11. Lists'!$B$47:$D$49,2,FALSE))} | W44: {=IF(F44="","",F44)} | X44: {=IF(W44="","",VLOOKUP(W44,'11. Lists'!$F$47:$G$51,2,FALSE))} | AB44: {=IF(H44="","",H44)} | AC44: {=IF(AB44="","",VLOOKUP(AB44,'11. Lists'!$F$36:$H$38,2,FALSE))} | AD44: {=IF(AB44="","",VLOOKUP(AB44,'11. Lists'!$F$36:$H$38,3,FALSE))} | AF44: {=IF(AE44="","",VLOOKUP(AE44,'11. Lists'!$I$47:$K$80,3,FALSE))} | AG44: {=IF(D44="","",VLOOKUP(D44,'9. All Habitats + Multipliers'!$C$4:$K$102,7,FALSE))} | AH44: {=IF(AG44="","",VLOOKUP(AG44,'11. Lists'!$J$35:$K$38,2,FALSE))}
B45: 6 | E45: {=IF(D45="","",VLOOKUP(D45,'10. Condition and Temporal'!$B$6:$D$103,3,FALSE))} | L45: {=IF(C45="","",IFERROR(IF(I45="","",((I45/10000)*(V45*X45))*(AH45*AF45)*AD45),"This intervention is not permitted within the SSM ▲"))} | T45: {=IF(C45="","",VLOOKUP(D45,'9. All Habitats + Multipliers'!$C$4:$K$102,5,FALSE))} | V45: {=IF(T45="","",VLOOKUP(T45,'11. Lists'!$B$47:$D$49,2,FALSE))} | W45: {=IF(F45="","",F45)} | X45: {=IF(W45="","",VLOOKUP(W45,'11. Lists'!$F$47:$G$51,2,FALSE))} | AB45: {=IF(H45="","",H45)} | AC45: {=IF(AB45="","",VLOOKUP(AB45,'11. Lists'!$F$36:$H$38,2,FALSE))} | AD45: {=IF(AB45="","",VLOOKUP(AB45,'11. Lists'!$F$36:$H$38,3,FALSE))} | AF45: {=IF(AE45="","",VLOOKUP(AE45,'11. Lists'!$I$47:$K$80,3,FALSE))} | AG45: {=IF(D45="","",VLOOKUP(D45,'9. All Habitats + Multipliers'!$C$4:$K$102,7,FALSE))} | AH45: {=IF(AG45="","",VLOOKUP(AG45,'11. Lists'!$J$35:$K$38,2,FALSE))}
B46: 7 | E46: {=IF(D46="","",VLOOKUP(D46,'10. Condition and Temporal'!$B$6:$D$103,3,FALSE))} | L46: {=IF(C46="","",IFERROR(IF(I46="","",((I46/10000)*(V46*X46))*(AH46*AF46)*AD46),"This intervention is not permitted within the SSM ▲"))} | T46: {=IF(C46="","",VLOOKUP(D46,'9. All Habitats + Multipliers'!$C$4:$K$102,5,FALSE))} | V46: {=IF(T46="","",VLOOKUP(T46,'11. Lists'!$B$47:$D$49,2,FALSE))} | W46: {=IF(F46="","",F46)} | X46: {=IF(W46="","",VLOOKUP(W46,'11. Lists'!$F$47:$G$51,2,FALSE))} | AB46: {=IF(H46="","",H46)} | AC46: {=IF(AB46="","",VLOOKUP(AB46,'11. Lists'!$F$36:$H$38,2,FALSE))} | AD46: {=IF(AB46="","",VLOOKUP(AB46,'11. Lists'!$F$36:$H$38,3,FALSE))} | AF46: {=IF(AE46="","",VLOOKUP(AE46,'11. Lists'!$I$47:$K$80,3,FALSE))} | AG46: {=IF(D46="","",VLOOKUP(D46,'9. All Habitats + Multipliers'!$C$4:$K$102,7,FALSE))} | AH46: {=IF(AG46="","",VLOOKUP(AG46,'11. Lists'!$J$35:$K$38,2,FALSE))}
B47: 8 | E47: {=IF(D47="","",VLOOKUP(D47,'10. Condition and Temporal'!$B$6:$D$103,3,FALSE))} | L47: {=IF(C47="","",IFERROR(IF(I47="","",((I47/10000)*(V47*X47))*(AH47*AF47)*AD47),"This intervention is not permitted within the SSM ▲"))} | T47: {=IF(C47="","",VLOOKUP(D47,'9. All Habitats + Multipliers'!$C$4:$K$102,5,FALSE))} | V47: {=IF(T47="","",VLOOKUP(T47,'11. Lists'!$B$47:$D$49,2,FALSE))} | W47: {=IF(F47="","",F47)} | X47: {=IF(W47="","",VLOOKUP(W47,'11. Lists'!$F$47:$G$51,2,FALSE))} | AB47: {=IF(H47="","",H47)} | AC47: {=IF(AB47="","",VLOOKUP(AB47,'11. Lists'!$F$36:$H$38,2,FALSE))} | AD47: {=IF(AB47="","",VLOOKUP(AB47,'11. Lists'!$F$36:$H$38,3,FALSE))} | AF47: {=IF(AE47="","",VLOOKUP(AE47,'11. Lists'!$I$47:$K$80,3,FALSE))} | AG47: {=IF(D47="","",VLOOKUP(D47,'9. All Habitats + Multipliers'!$C$4:$K$102,7,FALSE))} | AH47: {=IF(AG47="","",VLOOKUP(AG47,'11. Lists'!$J$35:$K$38,2,FALSE))}
B48: 9 | E48: {=IF(D48="","",VLOOKUP(D48,'10. Condition and Temporal'!$B$6:$D$103,3,FALSE))} | L48: {=IF(C48="","",IFERROR(IF(I48="","",((I48/10000)*(V48*X48))*(AH48*AF48)*AD48),"This intervention is not permitted within the SSM ▲"))} | T48: {=IF(C48="","",VLOOKUP(D48,'9. All Habitats + Multipliers'!$C$4:$K$102,5,FALSE))} | V48: {=IF(T48="","",VLOOKUP(T48,'11. Lists'!$B$47:$D$49,2,FALSE))} | W48: {=IF(F48="","",F48)} | X48: {=IF(W48="","",VLOOKUP(W48,'11. Lists'!$F$47:$G$51,2,FALSE))} | AB48: {=IF(H48="","",H48)} | AC48: {=IF(AB48="","",VLOOKUP(AB48,'11. Lists'!$F$36:$H$38,2,FALSE))} | AD48: {=IF(AB48="","",VLOOKUP(AB48,'11. Lists'!$F$36:$H$38,3,FALSE))} | AF48: {=IF(AE48="","",VLOOKUP(AE48,'11. Lists'!$I$47:$K$80,3,FALSE))} | AG48: {=IF(D48="","",VLOOKUP(D48,'9. All Habitats + Multipliers'!$C$4:$K$102,7,FALSE))} | AH48: {=IF(AG48="","",VLOOKUP(AG48,'11. Lists'!$J$35:$K$38,2,FALSE))}
B49: 10 | E49: {=IF(D49="","",VLOOKUP(D49,'10. Condition and Temporal'!$B$6:$D$103,3,FALSE))} | L49: {=IF(C49="","",IFERROR(IF(I49="","",((I49/10000)*(V49*X49))*(AH49*AF49)*AD49),"This intervention is not permitted within the SSM ▲"))} | T49: {=IF(C49="","",VLOOKUP(D49,'9. All Habitats + Multipliers'!$C$4:$K$102,5,FALSE))} | V49: {=IF(T49="","",VLOOKUP(T49,'11. Lists'!$B$47:$D$49,2,FALSE))} | W49: {=IF(F49="","",F49)} | X49: {=IF(W49="","",VLOOKUP(W49,'11. Lists'!$F$47:$G$51,2,FALSE))} | AB49: {=IF(H49="","",H49)} | AC49: {=IF(AB49="","",VLOOKUP(AB49,'11. Lists'!$F$36:$H$38,2,FALSE))} | AD49: {=IF(AB49="","",VLOOKUP(AB49,'11. Lists'!$F$36:$H$38,3,FALSE))} | AF49: {=IF(AE49="","",VLOOKUP(AE49,'11. Lists'!$I$47:$K$80,3,FALSE))} | AG49: {=IF(D49="","",VLOOKUP(D49,'9. All Habitats + Multipliers'!$C$4:$K$102,7,FALSE))} | AH49: {=IF(AG49="","",VLOOKUP(AG49,'11. Lists'!$J$35:$K$38,2,FALSE))}
...

Sheet 6. Hedges & Lines of Trees
O1: Retained Units | P1: {=IFERROR(SUM(AE11:AE30),"Error ▲")} -> 0 | R1: Data beyond this column is automated
B2: Site Name | C2: {=IF('2. Site Details'!D4="","Enter site name on 2. Site Details",'2. Site Details'!D4)} -> Hull End Farm | F2: Instructions: 1. Enter data into 1a. Baseline habitats 2. Enter data on habitats to be created into 1b. Habitats to be created 3. Enter data on habitats to be enhanced into 1c. Habitats to be enhanced | J2: {=IFERROR(IF(OR((ISNUMBER(SEARCH("▲",A7:Q101)))),"Input Errors Present On Sheet - Red Cells Or ▲ Highlight Errors","All Key Rules Satisfied ✓ "),"Technical Errors On Sheet ▲")} -> All Key Rules Satisfied ✓ | O2: Lost Units | P2: {=IFERROR(N31,"Error ▲")} -> 0
B3: Sheet Name | C3: 6. Hedges & Lines of Trees | O3: Created Units | P3: {=IFERROR(L59,"Error ▲")} -> 0.019563611
O4: Enhancement Units | P4: {=IFERROR(L86,"Error ▲")} -> 0
O5: Net Change | P5: {=IFERROR(P1+L59+L86-L31,"Error ▲")} -> 0.019563611
B7: 1a. Baseline habitats
B9: Ref | C9: Habitat | F9: C. Strategic significance | I9: Length (m) | L9: Baseline results | O9: Comments | T9: Habitat distinctiveness | W9: Habitat condition | AB9: Strategic significance | AE9: Ecological baseline | AH9: Suggested action to address habitat losses | AI9: Enhancement rules
C10: A. Broad Habitat | D10: B. Habitat type | I10: D. Total Length | J10: E. Length retained | K10: F. Length enhanced | L10: Total units onsite | M10: Length Lost | N10: Units lost | O10: User comments | P10: LPA comments | T10: Distinctiveness | V10: Score | W10: Condition | X10: Score | AB10: Strategic significance | AC10: Strategic significance | AD10: Strategic significance multiplier | AE10: Baseline units retained | AF10: Baseline units to be enhanced | AG10: Area lost
B11: 1 | C11: Hedgerows and Lines of trees | L11: {=IF(D11="","",IFERROR(IF(I11="","",((I11/1000)*V11*X11)*AD11),"This intervention is not permitted within the SSM ▲"))} | M11: {=IF(I11="","",IF(J11+K11>I11,"Length Error ▲",I11-J11-K11))} | N11: {=IFERROR(IF(I11="","",IF(M11="Length Error ▲","Length Error ▲",((M11/1000)*V11*X11)*AD11)),"This intervention is not permitted within the SSM ▲")} | T11: {=IF(D11="","",VLOOKUP(D11,'9. All Habitats + Multipliers'!$C$4:$K$102,5,FALSE))} | V11: {=IF(T11="","",VLOOKUP(T11,'11. Lists'!$S$47:$U$50,2,FALSE))} | W11: {=IF(D11="","",VLOOKUP(D11,'10. Condition and Temporal'!$B$6:$C$103,2,FALSE))} | X11: {=IF(W11="","",VLOOKUP(W11,'11. Lists'!$F$47:$G$51,2,FALSE))} | AB11: {=IF(F11="","",F11)} | AC11: {=IF(AB11="","",VLOOKUP(AB11,'11. Lists'!$F$36:$H$38,2,FALSE))} | AD11: {=IF(AB11="","",VLOOKUP(AB11,'11. Lists'!$F$36:$H$38,3,FALSE))} | AE11: {=IF(D11="","",((J11/1000)*V11*X11)*AD11)} | AF11: {=IF(D11="","",((K11/1000)*V11*X11)*AD11)} | AG11: {=IF(D11="","",M11)} | AH11: {=IF(T11="","",VLOOKUP(T11,'11. Lists'!$B$47:$D$49,3,FALSE))} | AI11: {=IF(D11="","",VLOOKUP(D11,'10. Condition and Temporal'!$B$6:$L$103,4,FALSE))}
B12: 2 | C12: Hedgerows and Lines of trees | L12: {=IF(D12="","",IFERROR(IF(I12="","",((I12/1000)*V12*X12)*AD12),"This intervention is not permitted within the SSM ▲"))} | M12: {=IF(I12="","",IF(J12+K12>I12,"Length Error ▲",I12-J12-K12))} | N12: {=IFERROR(IF(I12="","",IF(M12="Length Error ▲","Length Error ▲",((M12/1000)*V12*X12)*AD12)),"This intervention is not permitted within the SSM ▲")} | T12: {=IF(D12="","",VLOOKUP(D12,'9. All Habitats + Multipliers'!$C$4:$K$102,5,FALSE))} | V12: {=IF(T12="","",VLOOKUP(T12,'11. Lists'!$S$47:$U$50,2,FALSE))} | W12: {=IF(D12="","",VLOOKUP(D12,'10. Condition and Temporal'!$B$6:$C$103,2,FALSE))} | X12: {=IF(W12="","",VLOOKUP(W12,'11. Lists'!$F$47:$G$51,2,FALSE))} | AB12: {=IF(F12="","",F12)} | AC12: {=IF(AB12="","",VLOOKUP(AB12,'11. Lists'!$F$36:$H$38,2,FALSE))} | AD12: {=IF(AB12="","",VLOOKUP(AB12,'11. Lists'!$F$36:$H$38,3,FALSE))} | AE12: {=IF(D12="","",((J12/1000)*V12*X12)*AD12)} | AF12: {=IF(D12="","",((K12/1000)*V12*X12)*AD12)} | AG12: {=IF(D12="","",M12)} | AH12: {=IF(T12="","",VLOOKUP(T12,'11. Lists'!$B$47:$D$49,3,FALSE))} | AI12: {=IF(D12="","",VLOOKUP(D12,'10. Condition and Temporal'!$B$6:$L$103,4,FALSE))}
B13: 3 | C13: Hedgerows and Lines of trees | L13: {=IF(D13="","",IFERROR(IF(I13="","",((I13/1000)*V13*X13)*AD13),"This intervention is not permitted within the SSM ▲"))} | M13: {=IF(I13="","",IF(J13+K13>I13,"Length Error ▲",I13-J13-K13))} | N13: {=IFERROR(IF(I13="","",IF(M13="Length Error ▲","Length Error ▲",((M13/1000)*V13*X13)*AD13)),"This intervention is not permitted within the SSM ▲")} | T13: {=IF(D13="","",VLOOKUP(D13,'9. All Habitats + Multipliers'!$C$4:$K$102,5,FALSE))} | V13: {=IF(T13="","",VLOOKUP(T13,'11. Lists'!$S$47:$U$50,2,FALSE))} | W13: {=IF(D13="","",VLOOKUP(D13,'10. Condition and Temporal'!$B$6:$C$103,2,FALSE))} | X13: {=IF(W13="","",VLOOKUP(W13,'11. Lists'!$F$47:$G$51,2,FALSE))} | AB13: {=IF(F13="","",F13)} | AC13: {=IF(AB13="","",VLOOKUP(AB13,'11. Lists'!$F$36:$H$38,2,FALSE))} | AD13: {=IF(AB13="","",VLOOKUP(AB13,'11. Lists'!$F$36:$H$38,3,FALSE))} | AE13: {=IF(D13="","",((J13/1000)*V13*X13)*AD13)} | AF13: {=IF(D13="","",((K13/1000)*V13*X13)*AD13)} | AG13: {=IF(D13="","",M13)} | AH13: {=IF(T13="","",VLOOKUP(T13,'11. Lists'!$B$47:$D$49,3,FALSE))} | AI13: {=IF(D13="","",VLOOKUP(D13,'10. Condition and Temporal'!$B$6:$L$103,4,FALSE))}
B14: 4 | C14: Hedgerows and Lines of trees | L14: {=IF(D14="","",IFERROR(IF(I14="","",((I14/1000)*V14*X14)*AD14),"This intervention is not permitted within the SSM ▲"))} | M14: {=IF(I14="","",IF(J14+K14>I14,"Length Error ▲",I14-J14-K14))} | N14: {=IFERROR(IF(I14="","",IF(M14="Length Error ▲","Length Error ▲",((M14/1000)*V14*X14)*AD14)),"This intervention is not permitted within the SSM ▲")} | T14: {=IF(D14="","",VLOOKUP(D14,'9. All Habitats + Multipliers'!$C$4:$K$102,5,FALSE))} | V14: {=IF(T14="","",VLOOKUP(T14,'11. Lists'!$S$47:$U$50,2,FALSE))} | W14: {=IF(D14="","",VLOOKUP(D14,'10. Condition and Temporal'!$B$6:$C$103,2,FALSE))} | X14: {=IF(W14="","",VLOOKUP(W14,'11. Lists'!$F$47:$G$51,2,FALSE))} | AB14: {=IF(F14="","",F14)} | AC14: {=IF(AB14="","",VLOOKUP(AB14,'11. Lists'!$F$36:$H$38,2,FALSE))} | AD14: {=IF(AB14="","",VLOOKUP(AB14,'11. Lists'!$F$36:$H$38,3,FALSE))} | AE14: {=IF(D14="","",((J14/1000)*V14*X14)*AD14)} | AF14: {=IF(D14="","",((K14/1000)*V14*X14)*AD14)} | AG14: {=IF(D14="","",M14)} | AH14: {=IF(T14="","",VLOOKUP(T14,'11. Lists'!$B$47:$D$49,3,FALSE))} | AI14: {=IF(D14="","",VLOOKUP(D14,'10. Condition and Temporal'!$B$6:$L$103,4,FALSE))}
B15: 5 | C15: Hedgerows and Lines of trees | L15: {=IF(D15="","",IFERROR(IF(I15="","",((I15/1000)*V15*X15)*AD15),"This intervention is not permitted within the SSM ▲"))} | M15: {=IF(I15="","",IF(J15+K15>I15,"Length Error ▲",I15-J15-K15))} | N15: {=IFERROR(IF(I15="","",IF(M15="Length Error ▲","Length Error ▲",((M15/1000)*V15*X15)*AD15)),"This intervention is not permitted within the SSM ▲")} | T15: {=IF(D15="","",VLOOKUP(D15,'9. All Habitats + Multipliers'!$C$4:$K$102,5,FALSE))} | V15: {=IF(T15="","",VLOOKUP(T15,'11. Lists'!$S$47:$U$50,2,FALSE))} | W15: {=IF(D15="","",VLOOKUP(D15,'10. Condition and Temporal'!$B$6:$C$103,2,FALSE))} | X15: {=IF(W15="","",VLOOKUP(W15,'11. Lists'!$F$47:$G$51,2,FALSE))} | AB15: {=IF(F15="","",F15)} | AC15: {=IF(AB15="","",VLOOKUP(AB15,'11. Lists'!$F$36:$H$38,2,FALSE))} | AD15: {=IF(AB15="","",VLOOKUP(AB15,'11. Lists'!$F$36:$H$38,3,FALSE))} | AE15: {=IF(D15="","",((J15/1000)*V15*X15)*AD15)} | AF15: {=IF(D15="","",((K15/1000)*V15*X15)*AD15)} | AG15: {=IF(D15="","",M15)} | AH15: {=IF(T15="","",VLOOKUP(T15,'11. Lists'!$B$47:$D$49,3,FALSE))} | AI15: {=IF(D15="","",VLOOKUP(D15,'10. Condition and Temporal'!$B$6:$L$103,4,FALSE))}
B16: 6 | C16: Hedgerows and Lines of trees | L16: {=IF(D16="","",IFERROR(IF(I16="","",((I16/1000)*V16*X16)*AD16),"This intervention is not permitted within the SSM ▲"))} | M16: {=IF(I16="","",IF(J16+K16>I16,"Length Error ▲",I16-J16-K16))} | N16: {=IFERROR(IF(I16="","",IF(M16="Length Error ▲","Length Error ▲",((M16/1000)*V16*X16)*AD16)),"This intervention is not permitted within the SSM ▲")} | T16: {=IF(D16="","",VLOOKUP(D16,'9. All Habitats + Multipliers'!$C$4:$K$102,5,FALSE))} | V16: {=IF(T16="","",VLOOKUP(T16,'11. Lists'!$S$47:$U$50,2,FALSE))} | W16: {=IF(D16="","",VLOOKUP(D16,'10. Condition and Temporal'!$B$6:$C$103,2,FALSE))} | X16: {=IF(W16="","",VLOOKUP(W16,'11. Lists'!$F$47:$G$51,2,FALSE))} | AB16: {=IF(F16="","",F16)} | AC16: {=IF(AB16="","",VLOOKUP(AB16,'11. Lists'!$F$36:$H$38,2,FALSE))} | AD16: {=IF(AB16="","",VLOOKUP(AB16,'11. Lists'!$F$36:$H$38,3,FALSE))} | AE16: {=IF(D16="","",((J16/1000)*V16*X16)*AD16)} | AF16: {=IF(D16="","",((K16/1000)*V16*X16)*AD16)} | AG16: {=IF(D16="","",M16)} | AH16: {=IF(T16="","",VLOOKUP(T16,'11. Lists'!$B$47:$D$49,3,FALSE))} | AI16: {=IF(D16="","",VLOOKUP(D16,'10. Condition and Temporal'!$B$6:$L$103,4,FALSE))}
B17: 7 | C17: Hedgerows and Lines of trees | L17: {=IF(D17="","",IFERROR(IF(I17="","",((I17/1000)*V17*X17)*AD17),"This intervention is not permitted within the SSM ▲"))} | M17: {=IF(I17="","",IF(J17+K17>I17,"Length Error ▲",I17-J17-K17))} | N17: {=IFERROR(IF(I17="","",IF(M17="Length Error ▲","Length Error ▲",((M17/1000)*V17*X17)*AD17)),"This intervention is not permitted within the SSM ▲")} | T17: {=IF(D17="","",VLOOKUP(D17,'9. All Habitats + Multipliers'!$C$4:$K$102,5,FALSE))} | V17: {=IF(T17="","",VLOOKUP(T17,'11. Lists'!$S$47:$U$50,2,FALSE))} | W17: {=IF(D17="","",VLOOKUP(D17,'10. Condition and Temporal'!$B$6:$C$103,2,FALSE))} | X17: {=IF(W17="","",VLOOKUP(W17,'11. Lists'!$F$47:$G$51,2,FALSE))} | AB17: {=IF(F17="","",F17)} | AC17: {=IF(AB17="","",VLOOKUP(AB17,'11. Lists'!$F$36:$H$38,2,FALSE))} | AD17: {=IF(AB17="","",VLOOKUP(AB17,'11. Lists'!$F$36:$H$38,3,FALSE))} | AE17: {=IF(D17="","",((J17/1000)*V17*X17)*AD17)} | AF17: {=IF(D17="","",((K17/1000)*V17*X17)*AD17)} | AG17: {=IF(D17="","",M17)} | AH17: {=IF(T17="","",VLOOKUP(T17,'11. Lists'!$B$47:$D$49,3,FALSE))} | AI17: {=IF(D17="","",VLOOKUP(D17,'10. Condition and Temporal'!$B$6:$L$103,4,FALSE))}
B18: 8 | C18: Hedgerows and Lines of trees | L18: {=IF(D18="","",IFERROR(IF(I18="","",((I18/1000)*V18*X18)*AD18),"This intervention is not permitted within the SSM ▲"))} | M18: {=IF(I18="","",IF(J18+K18>I18,"Length Error ▲",I18-J18-K18))} | N18: {=IFERROR(IF(I18="","",IF(M18="Length Error ▲","Length Error ▲",((M18/1000)*V18*X18)*AD18)),"This intervention is not permitted within the SSM ▲")} | T18: {=IF(D18="","",VLOOKUP(D18,'9. All Habitats + Multipliers'!$C$4:$K$102,5,FALSE))} | V18: {=IF(T18="","",VLOOKUP(T18,'11. Lists'!$S$47:$U$50,2,FALSE))} | W18: {=IF(D18="","",VLOOKUP(D18,'10. Condition and Temporal'!$B$6:$C$103,2,FALSE))} | X18: {=IF(W18="","",VLOOKUP(W18,'11. Lists'!$F$47:$G$51,2,FALSE))} | AB18: {=IF(F18="","",F18)} | AC18: {=IF(AB18="","",VLOOKUP(AB18,'11. Lists'!$F$36:$H$38,2,FALSE))} | AD18: {=IF(AB18="","",VLOOKUP(AB18,'11. Lists'!$F$36:$H$38,3,FALSE))} | AE18: {=IF(D18="","",((J18/1000)*V18*X18)*AD18)} | AF18: {=IF(D18="","",((K18/1000)*V18*X18)*AD18)} | AG18: {=IF(D18="","",M18)} | AH18: {=IF(T18="","",VLOOKUP(T18,'11. Lists'!$B$47:$D$49,3,FALSE))} | AI18: {=IF(D18="","",VLOOKUP(D18,'10. Condition and Temporal'!$B$6:$L$103,4,FALSE))}
B19: 9 | C19: Hedgerows and Lines of trees | L19: {=IF(D19="","",IFERROR(IF(I19="","",((I19/1000)*V19*X19)*AD19),"This intervention is not permitted within the SSM ▲"))} | M19: {=IF(I19="","",IF(J19+K19>I19,"Length Error ▲",I19-J19-K19))} | N19: {=IFERROR(IF(I19="","",IF(M19="Length Error ▲","Length Error ▲",((M19/1000)*V19*X19)*AD19)),"This intervention is not permitted within the SSM ▲")} | T19: {=IF(D19="","",VLOOKUP(D19,'9. All Habitats + Multipliers'!$C$4:$K$102,5,FALSE))} | V19: {=IF(T19="","",VLOOKUP(T19,'11. Lists'!$S$47:$U$50,2,FALSE))} | W19: {=IF(D19="","",VLOOKUP(D19,'10. Condition and Temporal'!$B$6:$C$103,2,FALSE))} | X19: {=IF(W19="","",VLOOKUP(W19,'11. Lists'!$F$47:$G$51,2,FALSE))} | AB19: {=IF(F19="","",F19)} | AC19: {=IF(AB19="","",VLOOKUP(AB19,'11. Lists'!$F$36:$H$38,2,FALSE))} | AD19: {=IF(AB19="","",VLOOKUP(AB19,'11. Lists'!$F$36:$H$38,3,FALSE))} | AE19: {=IF(D19="","",((J19/1000)*V19*X19)*AD19)} | AF19: {=IF(D19="","",((K19/1000)*V19*X19)*AD19)} | AG19: {=IF(D19="","",M19)} | AH19: {=IF(T19="","",VLOOKUP(T19,'11. Lists'!$B$47:$D$49,3,FALSE))} | AI19: {=IF(D19="","",VLOOKUP(D19,'10. Condition and Temporal'!$B$6:$L$103,4,FALSE))}
B20: 10 | C20: Hedgerows and Lines of trees | L20: {=IF(D20="","",IFERROR(IF(I20="","",((I20/1000)*V20*X20)*AD20),"This intervention is not permitted within the SSM ▲"))} | M20: {=IF(I20="","",IF(J20+K20>I20,"Length Error ▲",I20-J20-K20))} | N20: {=IFERROR(IF(I20="","",IF(M20="Length Error ▲","Length Error ▲",((M20/1000)*V20*X20)*AD20)),"This intervention is not permitted within the SSM ▲")} | T20: {=IF(D20="","",VLOOKUP(D20,'9. All Habitats + Multipliers'!$C$4:$K$102,5,FALSE))} | V20: {=IF(T20="","",VLOOKUP(T20,'11. Lists'!$S$47:$U$50,2,FALSE))} | W20: {=IF(D20="","",VLOOKUP(D20,'10. Condition and Temporal'!$B$6:$C$103,2,FALSE))} | X20: {=IF(W20="","",VLOOKUP(W20,'11. Lists'!$F$47:$G$51,2,FALSE))} | AB20: {=IF(F20="","",F20)} | AC20: {=IF(AB20="","",VLOOKUP(AB20,'11. Lists'!$F$36:$H$38,2,FALSE))} | AD20: {=IF(AB20="","",VLOOKUP(AB20,'11. Lists'!$F$36:$H$38,3,FALSE))} | AE20: {=IF(D20="","",((J20/1000)*V20*X20)*AD20)} | AF20: {=IF(D20="","",((K20/1000)*V20*X20)*AD20)} | AG20: {=IF(D20="","",M20)} | AH20: {=IF(T20="","",VLOOKUP(T20,'11. Lists'!$B$47:$D$49,3,FALSE))} | AI20: {=IF(D20="","",VLOOKUP(D20,'10. Condition and Temporal'!$B$6:$L$103,4,FALSE))}
B21: 11 | C21: Hedgerows and Lines of trees | L21: {=IF(D21="","",IFERROR(IF(I21="","",((I21/1000)*V21*X21)*AD21),"This intervention is not permitted within the SSM ▲"))} | M21: {=IF(I21="","",IF(J21+K21>I21,"Length Error ▲",I21-J21-K21))} | N21: {=IFERROR(IF(I21="","",IF(M21="Length Error ▲","Length Error ▲",((M21/1000)*V21*X21)*AD21)),"This intervention is not permitted within the SSM ▲")} | T21: {=IF(D21="","",VLOOKUP(D21,'9. All Habitats + Multipliers'!$C$4:$K$102,5,FALSE))} | V21: {=IF(T21="","",VLOOKUP(T21,'11. Lists'!$S$47:$U$50,2,FALSE))} | W21: {=IF(D21="","",VLOOKUP(D21,'10. Condition and Temporal'!$B$6:$C$103,2,FALSE))} | X21: {=IF(W21="","",VLOOKUP(W21,'11. Lists'!$F$47:$G$51,2,FALSE))} | AB21: {=IF(F21="","",F21)} | AC21: {=IF(AB21="","",VLOOKUP(AB21,'11. Lists'!$F$36:$H$38,2,FALSE))} | AD21: {=IF(AB21="","",VLOOKUP(AB21,'11. Lists'!$F$36:$H$38,3,FALSE))} | AE21: {=IF(D21="","",((J21/1000)*V21*X21)*AD21)} | AF21: {=IF(D21="","",((K21/1000)*V21*X21)*AD21)} | AG21: {=IF(D21="","",M21)} | AH21: {=IF(T21="","",VLOOKUP(T21,'11. Lists'!$B$47:$D$49,3,FALSE))} | AI21: {=IF(D21="","",VLOOKUP(D21,'10. Condition and Temporal'!$B$6:$L$103,4,FALSE))}
B22: 12 | C22: Hedgerows and Lines of trees | L22: {=IF(D22="","",IFERROR(IF(I22="","",((I22/1000)*V22*X22)*AD22),"This intervention is not permitted within the SSM ▲"))} | M22: {=IF(I22="","",IF(J22+K22>I22,"Length Error ▲",I22-J22-K22))} | N22: {=IFERROR(IF(I22="","",IF(M22="Length Error ▲","Length Error ▲",((M22/1000)*V22*X22)*AD22)),"This intervention is not permitted within the SSM ▲")} | T22: {=IF(D22="","",VLOOKUP(D22,'9. All Habitats + Multipliers'!$C$4:$K$102,5,FALSE))} | V22: {=IF(T22="","",VLOOKUP(T22,'11. Lists'!$S$47:$U$50,2,FALSE))} | W22: {=IF(D22="","",VLOOKUP(D22,'10. Condition and Temporal'!$B$6:$C$103,2,FALSE))} | X22: {=IF(W22="","",VLOOKUP(W22,'11. Lists'!$F$47:$G$51,2,FALSE))} | AB22: {=IF(F22="","",F22)} | AC22: {=IF(AB22="","",VLOOKUP(AB22,'11. Lists'!$F$36:$H$38,2,FALSE))} | AD22: {=IF(AB22="","",VLOOKUP(AB22,'11. Lists'!$F$36:$H$38,3,FALSE))} | AE22: {=IF(D22="","",((J22/1000)*V22*X22)*AD22)} | AF22: {=IF(D22="","",((K22/1000)*V22*X22)*AD22)} | AG22: {=IF(D22="","",M22)} | AH22: {=IF(T22="","",VLOOKUP(T22,'11. Lists'!$B$47:$D$49,3,FALSE))} | AI22: {=IF(D22="","",VLOOKUP(D22,'10. Condition and Temporal'!$B$6:$L$103,4,FALSE))}
... B30: 20 | C30: Hedgerows and Lines of trees | L30: {=IF(D30="","",IFERROR(IF(I30="","",((I30/1000)*V30*X30)*AD30),"This intervention is not permitted within the SSM ▲"))} | M30: {=IF(I30="","",IF(J30+K30>I30,"Length Error ▲",I30-J30-K30))} | N30: {=IFERROR(IF(I30="","",IF(M30="Length Error ▲","Length Error ▲",((M30/1000)*V30*X30)*AD30)),"This intervention is not permitted within the SSM ▲")} | T30: {=IF(D30="","",VLOOKUP(D30,'9. All Habitats + Multipliers'!$C$4:$K$102,5,FALSE))} | V30: {=IF(T30="","",VLOOKUP(T30,'11. Lists'!$S$47:$U$50,2,FALSE))} | W30: {=IF(D30="","",VLOOKUP(D30,'10. Condition and Temporal'!$B$6:$C$103,2,FALSE))} | X30: {=IF(W30="","",VLOOKUP(W30,'11. Lists'!$F$47:$G$51,2,FALSE))} | AB30: {=IF(F30="","",F30)} | AC30: {=IF(AB30="","",VLOOKUP(AB30,'11. Lists'!$F$36:$H$38,2,FALSE))} | AD30: {=IF(AB30="","",VLOOKUP(AB30,'11. Lists'!$F$36:$H$38,3,FALSE))} | AE30: {=IF(D30="","",((J30/1000)*V30*X30)*AD30)} | AF30: {=IF(D30="","",((K30/1000)*V30*X30)*AD30)} | AG30: {=IF(D30="","",M30)} | AH30: {=IF(T30="","",VLOOKUP(T30,'11. Lists'!$B$47:$D$49,3,FALSE))} | AI30: {=IF(D30="","",VLOOKUP(D30,'10. Condition and Temporal'!$B$6:$L$103,4,FALSE))}
H31: Totals | I31: {=SUM(I11:I30)} -> 0 | J31: {=SUM(J11:J30)} -> 0 | K31: {=SUM(K11:K30)} -> 0 | L31: {=SUM(L11:L30)} -> 0 | M31: {=SUM(M11:M30)} -> 0 | N31: {=SUM(N11:N30)} -> 0
H32: Error Check 1 | I32: {=IF(I31<J31+K31,"Error - Lengths Retained and Enhanced Exceed Total Length ▲","Lengths Acceptable ✓")} -> Lengths Acceptable ✓ | O32: {=IFERROR(FIND("Error",I32),0)} -> 0
H33: Error Check 2 | I33: {=IF(I31<5000,"Lengths Acceptable ✓",IF(I31>=5000,"Length Exceeds Length Appropriate for Small Sites Metric ▲"))} -> Lengths Acceptable ✓ | O33: {=COUNTIF(L11:N30,"*"&"error"&"*")} -> 0
R34: Data beyond this column is automated
B35: 1b. Habitats to be created
B37: Ref | E37: Condition Assessment | H37: D. Strategic significance | I37: E. Total Length created (m) | L37: Units created on-site | O37: Comments | T37: Habitat distinctiveness | W37: Habitat condition | AB37: Strategic significance | AE37: Temporal multiplier | AG37: Difficulty multipliers
C38: A. Broad Habitat | D38: B. Habitat type | E38: Acceptable condition options | F38: C. Targeted condition | O38: User comments | P38: LPA comments | T38: Distinctiveness | V38: Score | W38: Condition | X38: Score | AB38: Strategic significance | AC38: Strategic significance | AD38: Strategic significance multiplier | AE38: Time to target condition/years | AF38: Time to target multiplier | AG38: Difficulty of creation category | AH38: Difficulty of creation multiplier
B39: 1 | C39: Hedgerows and Lines of trees | D39: Native hedgerow | E39: {=IF(D39="","",VLOOKUP(D39,'10. Condition and Temporal'!$B$6:$D$103,3,FALSE))} -> Moderate, Good | F39: Good | H39: Area/compensation not in local strategy/ no local strategy | I39: 5 | L39: {=IF(D39="","",IFERROR(IF(I39="","",((I39/1000)*(V39*X39))*(AH39*AF39)*AD39),"This intervention is not permitted within the SSM ▲"))} -> 0.019563611 | T39: {=IF(D39="","",VLOOKUP(D39,'9. All Habitats + Multipliers'!$C$4:$K$102,5,FALSE))} -> Low | V39: {=IF(T39="","",VLOOKUP(T39,'11. Lists'!$S$47:$U$50,2,FALSE))} -> 2 | W39: {=IF(F39="","",F39)} -> Good | X39: {=IF(W39="","",VLOOKUP(W39,'11. Lists'!$F$47:$G$51,2,FALSE))} -> 3 | AB39: {=IF(H39="","",H39)} -> Area/compensation not in local strategy/ no local strategy | AC39: {=IF(AB39="","",VLOOKUP(AB39,'11. Lists'!$F$36:$H$38,2,FALSE))} -> Low Strategic Significance | AD39: {=IF(AB39="","",VLOOKUP(AB39,'11. Lists'!$F$36:$H$38,3,FALSE))} -> 1 | AE39: 12 | AF39: {=IF(AE39="","",VLOOKUP(AE39,'11. Lists'!$I$47:$K$80,3,FALSE))} -> 0.65212036 | AG39: {=IF(D39="","",VLOOKUP(D39,'9. All Habitats + Multipliers'!$C$4:$K$102,7,FALSE))} -> Low | AH39: {=IF(AG39="","",VLOOKUP(AG39,'11. Lists'!$J$35:$K$38,2,FALSE))} -> 1
